Workbook

Sheet Tabulka_opatření_17.7.2020_tisk
A1: Tabulka ekonomických opatření EU-27+UK zpracovaná k 17. 7. 2020 na základě vstupů z databáze OECD, MMF a dalších - viz legendu na konci
A3: Hlavní kategorie | B3: Specifické kategorie | C3: Země | D3: Částka (mld. EUR) | E3: Trvání opatření do: | F3: Další specifikace (zacílené subjekty, účast státu, provázanost s dalšími opatřeními, atd.)
A4: Záruky na bankovní úvěry; státní půjčky pro firmy; dluhová moratoria apod. | B4: Státní půjčky specificky pro SMEs + OSVČ + … | C4: ČR | D4: 0.18 | E4: N/A | F4: COVID I: 0 %; 0,5-15 mil. Kč; do 90 % způsobilých výdajů; splatnost 2 roky; roční odklad splátek
C5: Polsko | D5: 16.5375 | E5: N/A | F5: Pro mikropodniky (5000 PLN)
C6: Německo | D6: P/T | E6: N/A | F6: Poskytování neomezených úvěrů od KfW; zvýšení limitu velikosti podniku
C7: Nizozemsko | D7: 2 | E7: N/A | F7: Nižší úroková sazba; pro OSVČ a "independent entrepreneurs"
C8: Lucembursko | D8: 0.3 | E8: N/A | F8: Vratné zálohy do 500 tis. EUR
C9: Portugalsko | D9: 0.06 | E9: N/A | F9: Mikropodniky v cestovním ruchu
C10: Švédsko | D10: 0.27 | E10: N/A | F10: Zvýšení kapitálové dotace pro Almi, státní agenturu, která nabízí půjčky SMEs
C11: UK | D11: P/T | E11: Viz spec. | F11: OSVČ: "univerzální úvěr": uvolnění podmínek, zvýšení příspěvku 1 tis GBP na rok; dále půjčky pro SMEs do 5 mil. GBP
C12: Irsko | D12: 0.2 | E12: N/A | F12: Podpora pracovního kapitálu; SMEs
C13: Chorvatsko | D13: 0.044942348 | E13: N/A | F13: Půjčky provozního kapitálu; SMEs; úr. sazby do 1 %
C14: Finsko | D14: 2 | E14: N/A | F14: Půjčky pro SMEs
B15: Státní půjčky pro podniky různých velikostí | C15: Německo | D15: 100 | E15: N/A | F15: 250+ zaměstnanců, úvěrová autorizace KfW za účelem refinancování
C16: Maďarsko | D16: 6.99 | E16: N/A | F16: Uvěrové linky Maďarské rozvojové banky na podporu krizových, technologických atd. programů
C17: Lucembursko | D17: 0.7 | E17: N/A | F17: SNCI ve spolupráci s KB; zmírnění podmínek pro splátky
C18: Španělsko | D18: 10 | E18: N/A | F18: Zvýšení objemu úvěrových linek ICO pro podniky a OSVČ
C19: Portugalsko | D19: 0.34 | E19: N/A | F19: Nejvíce zasažené firmy
C20: Řecko | D20: 2 | E20: N/A | F20: Vratná záloha na základě snížení obratu nebo jiných faktorů
C21: Estonsko | D21: 0.55 | E21: N/A | F21: Provozní i investiční úvěry (max. 5 mil. eur/firmu s úrokem 4% ročně)
C22: Lotyšsko | D22: 0.2 | E22: Viz spec. | F22: Půjčky až na 3 roky na pracovní kapitál; odklad splátek: rok; subvence úroků
C23: Litva | D23: 0.782 | E23: N/A | F23: Půjčky + investice do rizikového kapitálu + kompenzace úroků, …
C24: Slovinsko | D24: 0.6 | E24: N/A | F24: Úvěrové linky
C25: Polsko | D25: P/T | E25: N/A | F25: Úvěry z rozv. fondu na pomoc proti propouštění pracovníků; 3 roky; 0 % úrok
C26: Chorvatsko | D26: 1 | E26: N/A | F26: Zasažené firmy; nulové či subvencované úroky
C27: Irsko | D27: 0.2 | E27: N/A | F27: Vratné zálohy; při poklesu obratu min. o 15 %; 10+ zaměstnanců
C28: UK | D28: 385.968 | E28: N/A | F28: Státní půjčky na podnikání, zahrnuje též garance (viz níže)
B29: Záruky státu na půjčky specificky pro SMEs + | C29: Německo | D29: 2.5 | E29: N/A | F29: Zvýšení míry rizika přebíraného státem, 2x vyšší garance od garačních bank
C30: Dánsko | D30: 3.348 | E30: N/A | F30: Pro SMEs při poklesu obratu; záruka do 70 % úvěru
C31: Itálie | D31: 100 | E31: N/A | F31: Max. 5 mil.; rozšíření dostupnosti; mohou přispět i soukr. osoby; snížení poplatků; rovněž pro "freelancers", OSVČ
C32: Nizozemsko | D32: 2.313 | E32: 2024-25 | F32: Max. 1,5 mil./SME 75% garance (BMKB); 10-50 tis./SME až 95% garance (KKC); 50% garance pro startupy (COL)
C33: Litva | D33: 0.5 | E33: N/A | F33: Zvýšení stropů INVEGA (fond pro podporu SMEs)
C34: Španělsko | D34: 1 | E34: N/A | F34: SMESs + OSVČ; garance 80 % nových a obnovovaných půjček
C35: Švédsko | D35: 20.682 | E35: N/A | F35: Státní záruka na 70% nových bankovních úvěrů pro malé podniky; do 75 mil SEK
C36: Portugalsko | D36: 0.97 | E36: N/A | F36: Odvětví: restaurace, turismus, turistické ubytování, průmysl
C37: Rumunsko | D37: 3.105 | E37: N/A | F37: Rozšíření státních záruk; dotovaní úroků pro malé a mikropodniky
C38: ČR | D38: 0.78991 | E38: N/A | F38: COVID II a Praha: záruka až 80 % jistiny; dotace úroků; na úvěry do 15 mil. Kč
C39: Slovensko | D39: 0.15 | E39: N/A | F39: Záruky za úvěry a úhrada úroků státem; SMEs+OSVČ
C40: Bulharsko | D40: 0.255 | E40: N/A | F40: Záruky na půjčky pro SMEs a mikropodniky (na investice a prac. kapitál)
C41: Chorvatsko | D41: 0.27607442 | E41: N/A | F41: Záruky na půjčky mikropodnikům a SMEs
...

Sheet Tabulka_opatření_filtrování
A1: Tabulka ekonomických opatření EU-27+UK zpracovaná k 17. 7. 2020 na základě vstupů z databáze OECD, MMF a dalších - možnosti filtrování např. dle zemí, legenda viz předchozí list
A3: Hlavní kategorie | B3: Specifické kategorie | C3: Země | D3: Částka (mld. EUR) | E3: Trvání opatření do: | F3: Další specifikace (zacílené subjekty, účast státu, provázanost s dalšími opatřeními, atd.) | N3: Čáska (součty částek) v národní měně | O3: Pomocný výpočtový sloupec | P3: Pomocný výpočtový sloupec
A4: Záruky na bankovní úvěry; státní půjčky pro firmy; dluhová moratoria apod. | B4: Státní půjčky specificky pro SMEs + OSVČ + … | C4: ČR | D4: 0.18 | E4: N/A | F4: COVID I: 0 %; 0,5-15 mil. Kč; do 90 % způsobilých výdajů; splatnost 2 roky; roční odklad splátek | N4: 5 mld. Kč
A5: Záruky na bankovní úvěry; státní půjčky pro firmy; dluhová moratoria apod. | B5: Státní půjčky specificky pro SMEs + OSVČ + … | C5: Polsko | D5: 16.5375 | E5: N/A | F5: Pro mikropodniky (5000 PLN) | N5: 75 mld. PLN | O5: 75 | P5: =O5*Doplňkové_statistické_info!L8 -> 16.5375
A6: Záruky na bankovní úvěry; státní půjčky pro firmy; dluhová moratoria apod. | B6: Státní půjčky specificky pro SMEs + OSVČ + … | C6: Německo | D6: P/T | E6: N/A | F6: Poskytování neomezených úvěrů od KfW; zvýšení limitu velikosti podniku
A7: Záruky na bankovní úvěry; státní půjčky pro firmy; dluhová moratoria apod. | B7: Státní půjčky specificky pro SMEs + OSVČ + … | C7: Nizozemsko | D7: 2 | E7: N/A | F7: Nižší úroková sazba; pro OSVČ a "independent entrepreneurs"
A8: Záruky na bankovní úvěry; státní půjčky pro firmy; dluhová moratoria apod. | B8: Státní půjčky specificky pro SMEs + OSVČ + … | C8: Lucembursko | D8: 0.3 | E8: N/A | F8: Vratné zálohy do 500 tis. EUR
A9: Záruky na bankovní úvěry; státní půjčky pro firmy; dluhová moratoria apod. | B9: Státní půjčky specificky pro SMEs + OSVČ + … | C9: Portugalsko | D9: 0.06 | E9: N/A | F9: Mikropodniky v cestovním ruchu
A10: Záruky na bankovní úvěry; státní půjčky pro firmy; dluhová moratoria apod. | B10: Státní půjčky specificky pro SMEs + OSVČ + … | C10: Švédsko | D10: 0.27 | E10: N/A | F10: Zvýšení kapitálové dotace pro Almi, státní agenturu, která nabízí půjčky SMEs | N10: 3 mld. SEK | O10: 3 | P10: =O10*Doplňkové_statistické_info!L10 -> 0.27576
A11: Záruky na bankovní úvěry; státní půjčky pro firmy; dluhová moratoria apod. | B11: Státní půjčky specificky pro SMEs + OSVČ + … | C11: UK | D11: P/T | E11: Viz spec. | F11: OSVČ: "univerzální úvěr": uvolnění podmínek, zvýšení příspěvku 1 tis GBP na rok; dále půjčky pro SMEs do 5 mil. GBP
A12: Záruky na bankovní úvěry; státní půjčky pro firmy; dluhová moratoria apod. | B12: Státní půjčky specificky pro SMEs + OSVČ + … | C12: Irsko | D12: 0.2 | E12: N/A | F12: Podpora pracovního kapitálu; SMEs
A13: Záruky na bankovní úvěry; státní půjčky pro firmy; dluhová moratoria apod. | B13: Státní půjčky specificky pro SMEs + OSVČ + … | C13: Chorvatsko | D13: 0.044942348 | E13: N/A | F13: Půjčky provozního kapitálu; SMEs; úr. sazby do 1 % | N13: 0,343 mld. HRK | O13: 0.343 | P13: =O13*Doplňkové_statistické_info!L15 -> 0.044942348
A14: Záruky na bankovní úvěry; státní půjčky pro firmy; dluhová moratoria apod. | B14: Státní půjčky specificky pro SMEs + OSVČ + … | C14: Finsko | D14: 2 | E14: N/A | F14: Půjčky pro SMEs
A15: Záruky na bankovní úvěry; státní půjčky pro firmy; dluhová moratoria apod. | B15: Státní půjčky pro podniky různých velikostí | C15: Německo | D15: 100 | E15: N/A | F15: 250+ zaměstnanců, úvěrová autorizace KfW za účelem refinancování
A16: Záruky na bankovní úvěry; státní půjčky pro firmy; dluhová moratoria apod. | B16: Státní půjčky pro podniky různých velikostí | C16: Maďarsko | D16: 6.99 | E16: N/A | F16: Uvěrové linky Maďarské rozvojové banky na podporu krizových, technologických atd. programů | N16: 2500 mld. HUN | O16: 2500 | P16: =O16*Doplňkové_statistické_info!L14 -> 6.99
A17: Záruky na bankovní úvěry; státní půjčky pro firmy; dluhová moratoria apod. | B17: Státní půjčky pro podniky různých velikostí | C17: Lucembursko | D17: 0.7 | E17: N/A | F17: SNCI ve spolupráci s KB; zmírnění podmínek pro splátky
A18: Záruky na bankovní úvěry; státní půjčky pro firmy; dluhová moratoria apod. | B18: Státní půjčky pro podniky různých velikostí | C18: Španělsko | D18: 10 | E18: N/A | F18: Zvýšení objemu úvěrových linek ICO pro podniky a OSVČ
A19: Záruky na bankovní úvěry; státní půjčky pro firmy; dluhová moratoria apod. | B19: Státní půjčky pro podniky různých velikostí | C19: Portugalsko | D19: 0.34 | E19: N/A | F19: Nejvíce zasažené firmy
A20: Záruky na bankovní úvěry; státní půjčky pro firmy; dluhová moratoria apod. | B20: Státní půjčky pro podniky různých velikostí | C20: Řecko | D20: 2 | E20: N/A | F20: Vratná záloha na základě snížení obratu nebo jiných faktorů
A21: Záruky na bankovní úvěry; státní půjčky pro firmy; dluhová moratoria apod. | B21: Státní půjčky pro podniky různých velikostí | C21: Estonsko | D21: 0.55 | E21: N/A | F21: Provozní i investiční úvěry (max. 5 mil. eur/firmu s úrokem 4% ročně) | N21: 0,5+0,05
A22: Záruky na bankovní úvěry; státní půjčky pro firmy; dluhová moratoria apod. | B22: Státní půjčky pro podniky různých velikostí | C22: Lotyšsko | D22: 0.2 | E22: Viz spec. | F22: Půjčky až na 3 roky na pracovní kapitál; odklad splátek: rok; subvence úroků
A23: Záruky na bankovní úvěry; státní půjčky pro firmy; dluhová moratoria apod. | B23: Státní půjčky pro podniky různých velikostí | C23: Litva | D23: 0.782 | E23: N/A | F23: Půjčky + investice do rizikového kapitálu + kompenzace úroků, …
A24: Záruky na bankovní úvěry; státní půjčky pro firmy; dluhová moratoria apod. | B24: Státní půjčky pro podniky různých velikostí | C24: Slovinsko | D24: 0.6 | E24: N/A | F24: Úvěrové linky
A25: Záruky na bankovní úvěry; státní půjčky pro firmy; dluhová moratoria apod. | B25: Státní půjčky pro podniky různých velikostí | C25: Polsko | D25: P/T | E25: N/A | F25: Úvěry z rozv. fondu na pomoc proti propouštění pracovníků; 3 roky; 0 % úrok
A26: Záruky na bankovní úvěry; státní půjčky pro firmy; dluhová moratoria apod. | B26: Státní půjčky pro podniky různých velikostí | C26: Chorvatsko | D26: 1 | E26: N/A | F26: Zasažené firmy; nulové či subvencované úroky
A27: Záruky na bankovní úvěry; státní půjčky pro firmy; dluhová moratoria apod. | B27: Státní půjčky pro podniky různých velikostí | C27: Irsko | D27: 0.2 | E27: N/A | F27: Vratné zálohy; při poklesu obratu min. o 15 %; 10+ zaměstnanců
A28: Záruky na bankovní úvěry; státní půjčky pro firmy; dluhová moratoria apod. | B28: Státní půjčky pro podniky různých velikostí | C28: UK | D28: 385.968 | E28: N/A | F28: Státní půjčky na podnikání, zahrnuje též garance (viz níže) | N28: 330+10 mld. GBP | O28: 340 | P28: =O28*Doplňkové_statistické_info!L12 -> 385.968
A29: Záruky na bankovní úvěry; státní půjčky pro firmy; dluhová moratoria apod. | B29: Záruky státu na půjčky specificky pro SMEs + | C29: Německo | D29: 2.5 | E29: N/A | F29: Zvýšení míry rizika přebíraného státem, 2x vyšší garance od garačních bank
A30: Záruky na bankovní úvěry; státní půjčky pro firmy; dluhová moratoria apod. | B30: Záruky státu na půjčky specificky pro SMEs + | C30: Dánsko | D30: 3.348 | E30: N/A | F30: Pro SMEs při poklesu obratu; záruka do 70 % úvěru | N30: 25 mld. DKK
A31: Záruky na bankovní úvěry; státní půjčky pro firmy; dluhová moratoria apod. | B31: Záruky státu na půjčky specificky pro SMEs + | C31: Itálie | D31: 100 | E31: N/A | F31: Max. 5 mil.; rozšíření dostupnosti; mohou přispět i soukr. osoby; snížení poplatků; rovněž pro "freelancers", OSVČ
A32: Záruky na bankovní úvěry; státní půjčky pro firmy; dluhová moratoria apod. | B32: Záruky státu na půjčky specificky pro SMEs + | C32: Nizozemsko | D32: 2.313 | E32: 2024-25 | F32: Max. 1,5 mil./SME 75% garance (BMKB); 10-50 tis./SME až 95% garance (KKC); 50% garance pro startupy (COL) | N32: 1,5+0,713+0,1 | O32: =1.5+0.713+0.1 -> 2.313
A33: Záruky na bankovní úvěry; státní půjčky pro firmy; dluhová moratoria apod. | B33: Záruky státu na půjčky specificky pro SMEs + | C33: Litva | D33: 0.5 | E33: N/A | F33: Zvýšení stropů INVEGA (fond pro podporu SMEs)
A34: Záruky na bankovní úvěry; státní půjčky pro firmy; dluhová moratoria apod. | B34: Záruky státu na půjčky specificky pro SMEs + | C34: Španělsko | D34: 1 | E34: N/A | F34: SMESs + OSVČ; garance 80 % nových a obnovovaných půjček
A35: Záruky na bankovní úvěry; státní půjčky pro firmy; dluhová moratoria apod. | B35: Záruky státu na půjčky specificky pro SMEs + | C35: Švédsko | D35: 20.682 | E35: N/A | F35: Státní záruka na 70% nových bankovních úvěrů pro malé podniky; do 75 mil SEK | N35: 225 mld SEK | O35: 225 | P35: =O35*Doplňkové_statistické_info!L10 -> 20.682
A36: Záruky na bankovní úvěry; státní půjčky pro firmy; dluhová moratoria apod. | B36: Záruky státu na půjčky specificky pro SMEs + | C36: Portugalsko | D36: 0.97 | E36: N/A | F36: Odvětví: restaurace, turismus, turistické ubytování, průmysl
A37: Záruky na bankovní úvěry; státní půjčky pro firmy; dluhová moratoria apod. | B37: Záruky státu na půjčky specificky pro SMEs + | C37: Rumunsko | D37: 3.105 | E37: N/A | F37: Rozšíření státních záruk; dotovaní úroků pro malé a mikropodniky | N37: 15 mld. RON | O37: 15 | P37: =O37*Doplňkové_statistické_info!L9 -> 3.105
A38: Záruky na bankovní úvěry; státní půjčky pro firmy; dluhová moratoria apod. | B38: Záruky státu na půjčky specificky pro SMEs + | C38: ČR | D38: 0.78991 | E38: N/A | F38: COVID II a Praha: záruka až 80 % jistiny; dotace úroků; na úvěry do 15 mil. Kč | N38: 20+1,5 mld. Kč | O38: 21.5 | P38: =O38*Doplňkové_statistické_info!L7 -> 0.78991
A39: Záruky na bankovní úvěry; státní půjčky pro firmy; dluhová moratoria apod. | B39: Záruky státu na půjčky specificky pro SMEs + | C39: Slovensko | D39: 0.15 | E39: N/A | F39: Záruky za úvěry a úhrada úroků státem; SMEs+OSVČ
A40: Záruky na bankovní úvěry; státní půjčky pro firmy; dluhová moratoria apod. | B40: Záruky státu na půjčky specificky pro SMEs + | C40: Bulharsko | D40: 0.255 | E40: N/A | F40: Záruky na půjčky pro SMEs a mikropodniky (na investice a prac. Kapitál)
A41: Záruky na bankovní úvěry; státní půjčky pro firmy; dluhová moratoria apod. | B41: Záruky státu na půjčky specificky pro SMEs + | C41: Chorvatsko | D41: 0.27607442 | E41: N/A | F41: Záruky na půjčky mikropodnikům a SMEs | N41: 2,45-0,343 mld. HRK | O41: =2.45-0.343 -> 2.107 | P41: =O41*Doplňkové_statistické_info!L15 -> 0.27607442
...

Sheet Doplňková_opatření
A1: Další kategorie/opatření
D2: Země | E2: Mld. EUR | F2: Specifikace | P2: Domácí měna
A3: Nezdaněné bonusy zaměstnancům od firem | D3: Francie | E3: N/A | F3: Zjednodušení; výjimky v jejich zdanění v "nezbytných" sektorech
A4: Podpora studentů | D4: Dánsko | E4: 0.897 | F4: Zvýšení limitů studentských půjček; podpora mezd studentů v soukr. firmách (do 12/20) | P4: 0,6+6,1 mld. DKK
D5: Švédsko | E5: N/A | F5: Odstranění stropů na příjmy pro přidělení "student aid" | P5: N/A
D6: Belgie | E6: N/A | F6: Možnost předčasného ukončení nájemních smluv, …
D7: Lucembursko | E7: N/A | F7: 1 000 EUR pro studenty, kteří čelí akutním finančním problémům; finanční podpora vysokoškolského studia rozšířena
A8: Podpora prodeje "nesplacených úvěrů" (NPLs) | D8: Itálie | E8: 10 | F8: Konverzí odložených daňových aktiv (DTA) na slevu na dani pro finanční a průmyslové podniky
A9: Zákaz/restrikce pro propouštění | D9: Španělsko | E9: N/A | F9: Nelze zrušit dočasné prac. Smlouvy (pouze přerušit); jejich prodloužení pro učitele/výzkumníky (3,8 mil. EUR); propouštění kvůli COVID19 nepřípustné
D10: Portugalsko | E10: N/A | F10: Zákaz propuštění - u rodičů starajících se o děti do 12 let; posílená pravomoc Úřadu pro pracovní podmínky (ACT) jednat proti neoprávněnému propouštění
D11: Francie | E11: N/A | F11: Větší dohled státu při propuštění z "ekonomických důvodů"
D12: Itálie | E12: N/A | F12: Zmrazení propouštění na pět měsíců
A13: FDI ze třetích zemí | D13: Španělsko | E13: N/A | F13: Předchozí souhlas vlády; pro strategické sektory
A14: Opatření v oblasti cel a obchodních barier | D14: Španělsko | E14: N/A | F14: Urychlení celních procedur pro vývoz a dovoz průmyslových výrobků; 6 měsíců
D15: Litva | E15: N/A | F15: Dočasné zrušení aplikace cel v některých případech (zboží potřebné pro boj s COVID)
D16: Irsko | E16: N/A | F16: "Green routing": Nepřetržitý dovoz a dodávky kritických farmaceutických výrobků a léčivů | P16: N/A
D17: UK | E17: N/A | F17: Osvobození od cla a DPH na dovoz zdravotnických potřeb ze zemí mimo EU
A18: Ekonomická opatření vůči státním zaměstnancům | D18: Slovinsko | E18: N/A | F18: Až o 100 % zvýšování mezd (zdravotní péče, bezpečnost atd.) a 30 % snížení mezd pro ostatní | P18: N/A
D19: Chorvatsko | E19: N/A | F19: Moratorium na přijímání nových státních zaměstnanců (mimo zdravotníky)
D20: Bulharsko | E20: N/A | F20: Politická reprezentace bez platu od 1. 4. do konce národní nouze
A21: Tripartitní iniciativy; spolupráce se zaměstnavateli | D21: Dánsko | E21: N/A | F21: Vládní a business jednotky Corona
D22: Francie | E22: N/A | F22: Krizový výbor pro konzultace se zaměstnavatelskými svazy
A23: Uvolňování dluhových brzd/moratoria na veř. rozpočty | D23: Estonsko | E23: N/A | F23: Na lokální úrovni, k umožnění pokračování investic
D24: Chorvatsko | E24: N/A | F24: Moratorium na výdaje státního rozpočtu (vč. veřejných zakázek) mimo ty nezbytné
D25: Litva | E25: N/A | F25: Uvolnění stropů pro zadlužení obcí
D26: Dánsko | E26: N/A | F26: Zrušení rozpočtových stropů na rok 2020 (pro investice)
D27: Španělsko | E27: N/A | F27: Rozpočtová flexibilita, umožnění využití přebytků lokálních vlád z minulých let
A28: Odklad reforem | D28: Francie | E28: 0.5 | F28: Odklad části reformy pojištění v nezaměstnanosti
A29: Opatření týkající se dividend | D29: Francie | E29: N/A | F29: Pozastavení jejich vyplácení u podniků se státní účastí; dobrovolná účast i velkých soukr. firem
D30: Španělsko | E30: N/A | F30: Využití Kurzarbeitu (ERTE) podmíněno nevyplácením dividend
D31: Chorvatsko | E31: N/A | F31: Banky nebudou vyplácet dividendy.
D32: Itálie | E32: N/A | F32: Záruky od exportní úvěrové agentury podmíněny jejich nevyplácením.
A33: Opatření (ostatní) ve vztahu k EU fondům | D33: Chorvatsko | E33: N/A | F33: Zvýšení záloh
A34: Opatření směrem k zelené ekonomice | D34: Francie | E34: N/A | F34: Podpora prodeje "zelených aut" a zelených investic v automobilovém a "aerospace" sektoru
D35: Španělsko | E35: 0.1 | F35: MOVE II: dotace na obnovu vozidel
D36: UK | E36: N/A | F36: Granty pro domacnosti na šetření energie
D37: Maďarsko | E37: 0.04194 | F37: 55% dotace na nákup elektromobilů a ostatních elektrovozidel pro firmy
A38: Automobilový sektor | D38: Španělsko | E38: 0.5 | F38: Záruky
A39: Podpora veřejné dopravy | D39: Nizozemsko | E39: 1.5 | F39: Pro Nizozemské železnice a další společnosti veřejné dopravy (od 1. 3. do konce r. 2020)
A40: Podpůrné balíčky ve zdravotnictví | D40: Francie | E40: 8.26
...

Sheet Doplňkové_statistické_info
A1: MMF | B1: https://www.imf.org/en/Topics/imf-and-covid19/Policy-Responses-to-COVID-19#I
A2: OECD | B2: https://oecd.github.io/OECD-covid-action-map/
A3: Bruegel | B3: https://www.bruegel.org/publications/datasets/covid-national-dataset/ | L3: ECB
B4: AKTUALIZACE | D4: DATUM | L4: https://www.ecb.europa.eu/stats/policy_and_exchange_rates/euro_reference_exchange_rates/html/eurofxref-graph-pln.en.html
B5: 1 | C5: Česká republika | D5: 44007
B6: 2 | C6: Belgie | D6: 43993 | K6: Kurzy k 7. 4. 2020 | M6: Euro/Národní měna
B7: 3 | C7: Bulharsko | D7: 43993 | K7: CZK | L7: 0.03674
B8: 4 | C8: Dánsko | D8: 44008 | K8: PLN | L8: 0.2205
B9: 5 | C9: Estonsko | D9: 44011 | K9: RON | L9: 0.207
B10: 6 | C10: Finsko | D10: 43994 | K10: SEK | L10: 0.09192
B11: 7 | C11: Francie | D11: 43997 | K11: DKK | L11: 0.133914
B12: 8 | C12: Chorvatsko | D12: 44012 | K12: GBP | L12: 1.1352
B13: 9 | C13: Itálie | D13: 44013 | K13: BGN | L13: 0.5113
B14: 10 | C14: Irsko | D14: 44013 | K14: HUF | L14: 0.002796
B15: 11 | C15: Kypr | D15: 44013 | K15: HRK | L15: 0.13102725
B16: 12 | C16: Litva | D16: 44014
B17: 13 | C17: Lotyšsko | D17: 44021
B18: 14 | C18: Lucembursko | D18: 44022 | K18: Legenda + vybrané zkratky
B19: 15 | C19: Maďarsko | D19: 44029 | K19: KB | L19: Komerční banky
B20: 16 | C20: Malta | D20: 43999 | K20: OSVČ | L20: Osoba samostatně výdělečně činná/živnostnik či jejich analogie v zemích EU
B21: 17 | C21: Německo | D21: 36696 | K21: SMEs | L21: Malé a střední podniky
B22: 18 | C22: Nizozemsko | D22: 44014 | K22: DPH | L22: Daň z přidané hodnoty
B23: 19 | C23: Polsko | D23: 44004 | K23: VAVAI | L23: Výkum, vývoj a inovace
B24: 20 | C24: Portugalsko | D24: 44022 | K24: N/A | L24: Není dostupné/dohledatelné/relevantní
B25: 21 | C25: Rakousko | D25: 44022 | K25: Tučně vyznačená částka | L25: Souhrnná částka pro více opatření - u ostatních opatření uvedeno P/T
B26: 22 | C26: Rumunsko | D26: 44025 | K26: P/T | L26: Část celku; tj. finanční částka na dané opatření je součástí souhrnné částky
B27: 23 | C27: Řecko | D27: 44025 | K27: Viz spec. | L27: Informace o termínu opatření ve sloupci "Další specifikace…"
B28: 24 | C28: Slovensko | D28: 44025
B29: 25 | C29: Slovinsko | D29: 44026
B30: 26 | C30: Španělsko | D30: 44006
B31: 27 | C31: Švédsko | D31: 44028
B32: 28 | C32: UK | D32: 44028
